Workbook

Sheet Statistieken
A1: aantal | B1: runner ID | C1: runners.firstname | D1: runners.name | E1: runners.GroupId | L1: Eén rondje = ongeveer 520 meter
A2: 30 | B2: 3 | C2: Matthias | D2: Swerts | E2: 3
A3: 26 | B3: 4 | C3: Samuel | D3: Dieusaert | E3: 6 | I3: Gangenklassement
A4: 24 | B4: 5 | C4: Briek | D4: Verwilt | E4: 8 | G4: GroupID | H4: Gang | I4: # rondjes | J4: # lopers | K4: # gangbewoners | L4: Rondjes per gangbewoner
A5: 24 | B5: 8 | C5: Ernest | D5: Snoy | E5: 6 | G5: 1 | H5: Zuid -1 | I5: =SUMIF($E$2:$E$246,G5,$A$2:$A$246) -> 63 | J5: =COUNTIF($E$2:$E$246,"=1") -> 10 | K5: 13 | L5: =IF(K5="","",I5/K5) -> 4.8461538
A6: 24 | B6: 13 | C6: Ilya | D6: Nizet | E6: 7 | G6: 2 | H6: Zuid 0 | I6: =SUMIF($E$2:$E$246,G6,$A$2:$A$246) -> 59 | J6: =COUNTIF($E$2:$E$246,"=2") -> 12 | K6: 18 | L6: =IF(K6="","",I6/K6) -> 3.2777778
A7: 22 | B7: 26 | C7: Eloi | D7: Couvreur | E7: 6 | G7: 3 | H7: Zuid 1 | I7: =SUMIF($E$2:$E$246,G7,$A$2:$A$246) -> 100 | J7: =COUNTIF($E$2:$E$246,"=3") -> 20 | K7: 22 | L7: =IF(K7="","",I7/K7) -> 4.5454545
A8: 22 | B8: 29 | C8: JB | E8: 2 | G8: 4 | H8: Zuid 2 | I8: =SUMIF($E$2:$E$246,G8,$A$2:$A$246) -> 51 | J8: =COUNTIF($E$2:$E$246,"=4") -> 14 | K8: 22 | L8: =IF(K8="","",I8/K8) -> 2.3181818
A9: 17 | B9: 23 | C9: Ward | D9: De Leeuw | E9: 1 | G9: 5 | H9: Noord 0 | I9: =SUMIF($E$2:$E$246,G9,$A$2:$A$246) -> 68 | J9: =COUNTIF($E$2:$E$246,"=5") -> 22 | K9: 21 | L9: =IF(K9="","",I9/K9) -> 3.2380952
A10: 14 | B10: 22 | C10: Emiel | D10: Delecluse | E10: 3 | G10: 6 | H10: Noord 1 | I10: =SUMIF($E$2:$E$246,G10,$A$2:$A$246) -> 155 | J10: =COUNTIF($E$2:$E$246,"=6") -> 16 | K10: 22 | L10: =IF(K10="","",I10/K10) -> 7.0454545
A11: 13 | B11: 9 | C11: Mats | D11: De Greef | E11: 7 | G11: 7 | H11: Noord 2 | I11: =SUMIF($E$2:$E$246,G11,$A$2:$A$246) -> 115 | J11: =COUNTIF($E$2:$E$246,"=7") -> 17 | K11: 22 | L11: =IF(K11="","",I11/K11) -> 5.2272727
A12: 13 | B12: 39 | C12: Cyriac | D12: De Herdt | E12: 7 | G12: 8 | H12: Noord 3 | I12: =SUMIF($E$2:$E$246,G12,$A$2:$A$246) -> 70 | J12: =COUNTIF($E$2:$E$246,"=8") -> 14 | K12: 18 | L12: =IF(K12="","",I12/K12) -> 3.8888889
A13: 13 | B13: 107 | C13: Arnaud | D13: Vauterin | E13: 3 | G13: 10 | H13: Dondeynehuis | I13: =SUMIF($E$2:$E$246,G13,$A$2:$A$246) -> 0 | J13: =COUNTIF($E$2:$E$246,"=10") -> 0
A14: 12 | B14: 16 | C14: Daan | D14: Van Waesberghe | E14: 7 | G14: 11 | H14: Extern | I14: =SUMIF($E$2:$E$246,G14,$A$2:$A$246) -> 227 | J14: =COUNTIF($E$2:$E$246,"=11") -> 120
A15: 12 | B15: 25 | C15: Valentin | D15: Bodnar | E15: 6
A16: 12 | B16: 43 | C16: Andreas | D16: Eliat-Eliat | E16: 1 | H16: Gemiddeld # rondjes | I16: =AVERAGE(A2:A246) -> 3.7061224
A17: 12 | B17: 163 | C17: Timo | E17: 11 | H17: Aantal Lopers | I17: =COUNT(B2:B246) -> 245
A18: 11 | B18: 41 | C18: Jorne | D18: Rombouts | E18: 6 | H18: Totaal # rondjes | I18: =SUM(A2:A246) -> 908
A19: 11 | B19: 133 | C19: Tim | D19: Devogel | E19: 6 | H19: Gemiddelde tijd (s) | I19: =24*60*60/I18 -> 95.154185
A20: 11 | B20: 147 | C20: Eppo | D20: Beckx | E20: 2
A21: 10 | B21: 10 | C21: Axl | D21: Quirijnen | E21: 1
A22: 10 | B22: 17 | C22: Michiel | D22: Vangrieken | E22: 1
A23: 10 | B23: 63 | C23: Yarno | D23: De Winter | E23: 11
A24: 10 | B24: 164 | C24: Marius | D24: Vermeylen | E24: 7
A25: 9 | B25: 14 | C25: Kobe | D25: Vangrieken | E25: 4
A26: 9 | B26: 20 | C26: Gerard | E26: 8
A27: 9 | B27: 33 | C27: Frederik | D27: Dumortier | E27: 11
A28: 9 | B28: 173 | C28: Jasper | D28: Swerts | E28: 4
A29: 8 | B29: 40 | C29: Viktor | D29: Valkeniers | E29: 7
A30: 8 | B30: 108 | C30: Florian | D30: Van Herck | E30: 6
A31: 8 | B31: 127 | C31: Jasper | D31: Seps | E31: 6
A32: 8 | B32: 131 | C32: Cyril | D32: Claeys | E32: 6
A33: 7 | B33: 11 | C33: Seppe | D33: Stoffels | E33: 5
A34: 7 | B34: 19 | C34: Stijn | D34: Patroons | E34: 5
A35: 7 | B35: 30 | C35: Kasper | D35: Kiekens | E35: 3
A36: 7 | B36: 37 | C36: Victor | D36: Itterbeek | E36: 5
A37: 7 | B37: 81 | C37: Sander | D37: Van Campenhout | E37: 11
A38: 7 | B38: 86 | C38: Vincent | D38: Van Den Enden | E38: 2
... A173: 1 | B173: 105 | C173: Seppe | D173: Couwerts | E173: 11
A174: 1 | B174: 109 | C174: Cache | E174: 3
...

Sheet Alle rondjes
A1: RunnerId | B1: FirstName | C1: Name | D1: LapTime | E1: LapMoment
A2: ='.db3 Sheet2'!B2 -> 1 | B2: =VLOOKUP(A2,'.db3 Sheet3'!$A$2:$C$246,2,FALSE()) -> Luna | C2: =VLOOKUP(A2,'.db3 Sheet3'!$A$2:$C$246,3,FALSE())&"" -> Dehaes | D2: ='.db3 Sheet2'!C2 -> 27618 | E2: ='.db3 Sheet2'!D2 -> 2026-10-20 20:00:28.000
A3: ='.db3 Sheet2'!B3 -> 2 | B3: =VLOOKUP(A3,'.db3 Sheet3'!$A$2:$C$246,2,FALSE()) -> Tracy | C3: =VLOOKUP(A3,'.db3 Sheet3'!$A$2:$C$246,3,FALSE())&"" -> Furo | D3: ='.db3 Sheet2'!C3 -> 88825 | E3: ='.db3 Sheet2'!D3 -> 2026-10-20 20:01:56.000
A4: ='.db3 Sheet2'!B4 -> 3 | B4: =VLOOKUP(A4,'.db3 Sheet3'!$A$2:$C$246,2,FALSE()) -> Matthias | C4: =VLOOKUP(A4,'.db3 Sheet3'!$A$2:$C$246,3,FALSE())&"" -> Swerts | D4: ='.db3 Sheet2'!C4 -> 75502 | E4: ='.db3 Sheet2'!D4 -> 2026-10-20 20:03:12.000
A5: ='.db3 Sheet2'!B5 -> 4 | B5: =VLOOKUP(A5,'.db3 Sheet3'!$A$2:$C$246,2,FALSE()) -> Samuel | C5: =VLOOKUP(A5,'.db3 Sheet3'!$A$2:$C$246,3,FALSE())&"" -> Dieusaert | D5: ='.db3 Sheet2'!C5 -> 74671 | E5: ='.db3 Sheet2'!D5 -> 2026-10-20 20:04:27.000
A6: ='.db3 Sheet2'!B6 -> 5 | B6: =VLOOKUP(A6,'.db3 Sheet3'!$A$2:$C$246,2,FALSE()) -> Briek | C6: =VLOOKUP(A6,'.db3 Sheet3'!$A$2:$C$246,3,FALSE())&"" -> Verwilt | D6: ='.db3 Sheet2'!C6 -> 78923 | E6: ='.db3 Sheet2'!D6 -> 2026-10-20 20:05:46.000
A7: ='.db3 Sheet2'!B7 -> 6 | B7: =VLOOKUP(A7,'.db3 Sheet3'!$A$2:$C$246,2,FALSE()) -> Tim | C7: =VLOOKUP(A7,'.db3 Sheet3'!$A$2:$C$246,3,FALSE())&"" -> Van Mieghem | D7: ='.db3 Sheet2'!C7 -> 76789 | E7: ='.db3 Sheet2'!D7 -> 2026-10-20 20:07:02.000
A8: ='.db3 Sheet2'!B8 -> 7 | B8: =VLOOKUP(A8,'.db3 Sheet3'!$A$2:$C$246,2,FALSE()) -> Ben | C8: =VLOOKUP(A8,'.db3 Sheet3'!$A$2:$C$246,3,FALSE())&"" -> Masure | D8: ='.db3 Sheet2'!C8 -> 87681 | E8: ='.db3 Sheet2'!D8 -> 2026-10-20 20:08:30.000
A9: ='.db3 Sheet2'!B9 -> 8 | B9: =VLOOKUP(A9,'.db3 Sheet3'!$A$2:$C$246,2,FALSE()) -> Ernest | C9: =VLOOKUP(A9,'.db3 Sheet3'!$A$2:$C$246,3,FALSE())&"" -> Snoy | D9: ='.db3 Sheet2'!C9 -> 80269 | E9: ='.db3 Sheet2'!D9 -> 2026-10-20 20:09:50.000
A10: ='.db3 Sheet2'!B10 -> 9 | B10: =VLOOKUP(A10,'.db3 Sheet3'!$A$2:$C$246,2,FALSE()) -> Mats | C10: =VLOOKUP(A10,'.db3 Sheet3'!$A$2:$C$246,3,FALSE())&"" -> De Greef | D10: ='.db3 Sheet2'!C10 -> 74948 | E10: ='.db3 Sheet2'!D10 -> 2026-10-20 20:11:05.000
A11: ='.db3 Sheet2'!B11 -> 10 | B11: =VLOOKUP(A11,'.db3 Sheet3'!$A$2:$C$246,2,FALSE()) -> Axl | C11: =VLOOKUP(A11,'.db3 Sheet3'!$A$2:$C$246,3,FALSE())&"" -> Quirijnen | D11: ='.db3 Sheet2'!C11 -> 91713 | E11: ='.db3 Sheet2'!D11 -> 2026-10-20 20:12:37.000
A12: ='.db3 Sheet2'!B12 -> 11 | B12: =VLOOKUP(A12,'.db3 Sheet3'!$A$2:$C$246,2,FALSE()) -> Seppe | C12: =VLOOKUP(A12,'.db3 Sheet3'!$A$2:$C$246,3,FALSE())&"" -> Stoffels | D12: ='.db3 Sheet2'!C12 -> 95933 | E12: ='.db3 Sheet2'!D12 -> 2026-10-20 20:14:13.000
A13: ='.db3 Sheet2'!B13 -> 4 | B13: =VLOOKUP(A13,'.db3 Sheet3'!$A$2:$C$246,2,FALSE()) -> Samuel | C13: =VLOOKUP(A13,'.db3 Sheet3'!$A$2:$C$246,3,FALSE())&"" -> Dieusaert | D13: ='.db3 Sheet2'!C13 -> 85422 | E13: ='.db3 Sheet2'!D13 -> 2026-10-20 20:15:38.000
... A909: ='.db3 Sheet2'!B909 -> 4 | B909: =VLOOKUP(A909,'.db3 Sheet3'!$A$2:$C$246,2,FALSE()) -> Samuel | C909: =VLOOKUP(A909,'.db3 Sheet3'!$A$2:$C$246,3,FALSE())&"" -> Dieusaert | D909: ='.db3 Sheet2'!C909 -> 111738 | E909: ='.db3 Sheet2'!D909 -> 2026-10-21 20:00:31.000

Sheet Alle rondjes op tijd
A1: FirstName | B1: Name | C1: LapTime
A2: ='Alle rondjes'!B243 -> Cache | B2: ='Alle rondjes'!C243 | C2: ='Alle rondjes'!D243 -> 6769 | E2: verkeerd getimed
A3: ='Alle rondjes'!B2 -> Luna | B3: ='Alle rondjes'!C2 -> Dehaes | C3: ='Alle rondjes'!D2 -> 27618 | E3: verkeerd getimed
A4: ='Alle rondjes'!B832 -> Daan | B4: ='Alle rondjes'!C832 -> Van Waesberghe | C4: ='Alle rondjes'!D832 -> 59265 | E4: verkeerd getimed
A5: ='Alle rondjes'!B5 -> Samuel | B5: ='Alle rondjes'!C5 -> Dieusaert | C5: ='Alle rondjes'!D5 -> 74671
A6: ='Alle rondjes'!B10 -> Mats | B6: ='Alle rondjes'!C10 -> De Greef | C6: ='Alle rondjes'!D10 -> 74948
A7: ='Alle rondjes'!B4 -> Matthias | B7: ='Alle rondjes'!C4 -> Swerts | C7: ='Alle rondjes'!D4 -> 75502
A8: ='Alle rondjes'!B7 -> Tim | B8: ='Alle rondjes'!C7 -> Van Mieghem | C8: ='Alle rondjes'!D7 -> 76789
A9: ='Alle rondjes'!B761 -> Nicolas | B9: ='Alle rondjes'!C761 -> De Buisseret | C9: ='Alle rondjes'!D761 -> 76930
A10: ='Alle rondjes'!B853 -> Samuel | B10: ='Alle rondjes'!C853 -> Dieusaert | C10: ='Alle rondjes'!D853 -> 77918
A11: ='Alle rondjes'!B745 -> Nicolas | B11: ='Alle rondjes'!C745 -> De Buisseret | C11: ='Alle rondjes'!D745 -> 78743
A12: ='Alle rondjes'!B6 -> Briek | B12: ='Alle rondjes'!C6 -> Verwilt | C12: ='Alle rondjes'!D6 -> 78923
A13: ='Alle rondjes'!B152 -> Samuel | B13: ='Alle rondjes'!C152 -> Dieusaert | C13: ='Alle rondjes'!D152 -> 78961
A14: ='Alle rondjes'!B19 -> Ilya | B14: ='Alle rondjes'!C19 -> Nizet | C14: ='Alle rondjes'!D19 -> 79075
A15: ='Alle rondjes'!B499 -> Tuur | B15: ='Alle rondjes'!C499 -> Mouws | C15: ='Alle rondjes'!D499 -> 79278
A16: ='Alle rondjes'!B880 -> Seppe | B16: ='Alle rondjes'!C880 -> Geets | C16: ='Alle rondjes'!D880 -> 79289
A17: ='Alle rondjes'!B874 -> Brent | B17: ='Alle rondjes'!C874 -> Stroobants | C17: ='Alle rondjes'!D874 -> 79369
A18: ='Alle rondjes'!B62 -> Floris | B18: ='Alle rondjes'!C62 -> Vangrieken | C18: ='Alle rondjes'!D62 -> 79550
A19: ='Alle rondjes'!B659 -> Simon | B19: ='Alle rondjes'!C659 -> Thonon | C19: ='Alle rondjes'!D659 -> 79599
A20: ='Alle rondjes'!B758 -> Samuel | B20: ='Alle rondjes'!C758 -> Dieusaert | C20: ='Alle rondjes'!D758 -> 79661
A21: ='Alle rondjes'!B649 -> Yarno | B21: ='Alle rondjes'!C649 -> De Winter | C21: ='Alle rondjes'!D649 -> 79835
A22: ='Alle rondjes'!B803 -> Vincent | B22: ='Alle rondjes'!C803 -> Leurs | C22: ='Alle rondjes'!D803 -> 80193
A23: ='Alle rondjes'!B774 -> Nicolas | B23: ='Alle rondjes'!C774 -> De Buisseret | C23: ='Alle rondjes'!D774 -> 80255
A24: ='Alle rondjes'!B9 -> Ernest | B24: ='Alle rondjes'!C9 -> Snoy | C24: ='Alle rondjes'!D9 -> 80269
A25: ='Alle rondjes'!B61 -> Ilya | B25: ='Alle rondjes'!C61 -> Nizet | C25: ='Alle rondjes'!D61 -> 80331
A26: ='Alle rondjes'!B707 -> Finn | B26: ='Alle rondjes'!C707 -> Kenyon | C26: ='Alle rondjes'!D707 -> 80349
A27: ='Alle rondjes'!B897 -> Samuel | B27: ='Alle rondjes'!C897 -> Dieusaert | C27: ='Alle rondjes'!D897 -> 80418
A28: ='Alle rondjes'!B793 -> Nicolas | B28: ='Alle rondjes'!C793 -> De Buisseret | C28: ='Alle rondjes'!D793 -> 80453
A29: ='Alle rondjes'!B882 -> Michiel | B29: ='Alle rondjes'!C882 -> Van Der Vreken | C29: ='Alle rondjes'!D882 -> 80461
A30: ='Alle rondjes'!B88 -> Ilya | B30: ='Alle rondjes'!C88 -> Nizet | C30: ='Alle rondjes'!D88 -> 80509
A31: ='Alle rondjes'!B822 -> Tuur | B31: ='Alle rondjes'!C822 -> Mouws | C31: ='Alle rondjes'!D822 -> 80949
A32: ='Alle rondjes'!B875 -> Ruben | B32: ='Alle rondjes'!C875 -> Lamberts | C32: ='Alle rondjes'!D875 -> 81088
A33: ='Alle rondjes'!B878 -> Samuel | B33: ='Alle rondjes'!C878 -> Dieusaert | C33: ='Alle rondjes'!D878 -> 81098
A34: ='Alle rondjes'!B33 -> Ilya | B34: ='Alle rondjes'!C33 -> Nizet | C34: ='Alle rondjes'!D33 -> 81158
A35: ='Alle rondjes'!B110 -> Samuel | B35: ='Alle rondjes'!C110 -> Dieusaert | C35: ='Alle rondjes'!D110 -> 81160
A36: ='Alle rondjes'!B63 -> Frederik | B36: ='Alle rondjes'!C63 -> Dumortier | C36: ='Alle rondjes'!D63 -> 81379
A37: ='Alle rondjes'!B117 -> Ilya | B37: ='Alle rondjes'!C117 -> Nizet | C37: ='Alle rondjes'!D117 -> 81502
A38: ='Alle rondjes'!B872 -> Lucas | B38: ='Alle rondjes'!C872 -> Tolle | C38: ='Alle rondjes'!D872 -> 81571
A39: ='Alle rondjes'!B90 -> Samuel | B39: ='Alle rondjes'!C90 -> Dieusaert | C39: ='Alle rondjes'!D90 -> 81604
A40: ='Alle rondjes'!B650 -> Samuel | B40: ='Alle rondjes'!C650 -> Dieusaert | C40: ='Alle rondjes'!D650 -> 81672
...

Sheet .db3 Sheet1
A1: Id | B1: Name | C1: rowid | D1: -> Ophalen met SQLite programma (zoals SQLite Expert)
A2: 1 | B2: Lerkeveld (Zuid -1) | C2: 1
A3: 2 | B3: Lerkeveld (Zuid 0) | C3: 2
A4: 3 | B4: Lerkeveld (Zuid 1) | C4: 3
A5: 4 | B5: Lerkeveld (Zuid 2) | C5: 4
A6: 5 | B6: Lerkeveld (Noord 0) | C6: 5
A7: 6 | B7: Lerkeveld (Noord 1) | C7: 6
A8: 7 | B8: Lerkeveld (Noord 2) | C8: 7
A9: 8 | B9: Lerkeveld (Noord 3) | C9: 8
A10: 10 | B10: Dondeynehuis | C10: 10
A11: 11 | B11: Extern | C11: 11

Sheet .db3 Sheet2
A1: Id | B1: RunnerId | C1: LapTime | D1: LapMoment | E1: rowid | F1: -> Ophalen met SQLite programma (zoals SQLite Expert)
A2: 1 | B2: 1 | C2: 27618 | D2: 2026-10-20 20:00:28.000 | E2: 1
A3: 2 | B3: 2 | C3: 88825 | D3: 2026-10-20 20:01:56.000 | E3: 2
A4: 3 | B4: 3 | C4: 75502 | D4: 2026-10-20 20:03:12.000 | E4: 3
A5: 4 | B5: 4 | C5: 74671 | D5: 2026-10-20 20:04:27.000 | E5: 4
A6: 5 | B6: 5 | C6: 78923 | D6: 2026-10-20 20:05:46.000 | E6: 5
A7: 6 | B7: 6 | C7: 76789 | D7: 2026-10-20 20:07:02.000 | E7: 6
A8: 7 | B8: 7 | C8: 87681 | D8: 2026-10-20 20:08:30.000 | E8: 7
A9: 8 | B9: 8 | C9: 80269 | D9: 2026-10-20 20:09:50.000 | E9: 8
A10: 9 | B10: 9 | C10: 74948 | D10: 2026-10-20 20:11:05.000 | E10: 9
A11: 10 | B11: 10 | C11: 91713 | D11: 2026-10-20 20:12:37.000 | E11: 10
A12: 11 | B12: 11 | C12: 95933 | D12: 2026-10-20 20:14:13.000 | E12: 11
A13: 12 | B13: 4 | C13: 85422 | D13: 2026-10-20 20:15:38.000 | E13: 12
... A909: 908 | B909: 4 | C909: 111738 | D909: 2026-10-21 20:00:31.000 | E909: 908

Sheet .db3 Sheet3
A1: Id | B1: FirstName | C1: Name | D1: GroupId | E1: rowid | F1: -> Ophalen met SQLite programma (zoals SQLite Expert) | L1: Aantal Rondjes
A2: 1 | B2: Luna | C2: Dehaes | D2: 2 | E2: 1 | L2: =COUNTIF('Alle rondjes'!$A$2:$A$909,A2) -> 4
A3: 2 | B3: Tracy | C3: Furo | D3: 3 | E3: 2 | L3: =COUNTIF('Alle rondjes'!$A$2:$A$909,A3) -> 1
A4: 3 | B4: Matthias | C4: Swerts | D4: 3 | E4: 3 | L4: =COUNTIF('Alle rondjes'!$A$2:$A$909,A4) -> 30
A5: 4 | B5: Samuel | C5: Dieusaert | D5: 6 | E5: 4 | L5: =COUNTIF('Alle rondjes'!$A$2:$A$909,A5) -> 26
A6: 5 | B6: Briek | C6: Verwilt | D6: 8 | E6: 5 | L6: =COUNTIF('Alle rondjes'!$A$2:$A$909,A6) -> 24
A7: 6 | B7: Tim | C7: Van Mieghem | D7: 11 | E7: 6 | L7: =COUNTIF('Alle rondjes'!$A$2:$A$909,A7) -> 2
A8: 7 | B8: Ben | C8: Masure | D8: 11 | E8: 7 | L8: =COUNTIF('Alle rondjes'!$A$2:$A$909,A8) -> 2
A9: 8 | B9: Ernest | C9: Snoy | D9: 6 | E9: 8 | L9: =COUNTIF('Alle rondjes'!$A$2:$A$909,A9) -> 24
A10: 9 | B10: Mats | C10: De Greef | D10: 7 | E10: 9 | L10: =COUNTIF('Alle rondjes'!$A$2:$A$909,A10) -> 13
A11: 10 | B11: Axl | C11: Quirijnen | D11: 1 | E11: 10 | L11: =COUNTIF('Alle rondjes'!$A$2:$A$909,A11) -> 10
A12: 11 | B12: Seppe | C12: Stoffels | D12: 5 | E12: 11 | L12: =COUNTIF('Alle rondjes'!$A$2:$A$909,A12) -> 7
A13: 12 | B13: Ward | C13: Vanbilsen | D13: 11 | E13: 12 | L13: =COUNTIF('Alle rondjes'!$A$2:$A$909,A13) -> 1
... A20: 19 | B20: Stijn | C20: Patroons | D20: 5 | E20: 19 | L20: =COUNTIF('Alle rondjes'!$A$2:$A$909,A20) -> 7
A21: 20 | B21: Gerard | D21: 8 | E21: 20 | L21: =COUNTIF('Alle rondjes'!$A$2:$A$909,A21) -> 9
A22: 21 | B22: Vincent | C22: Leurs | D22: 11 | E22: 21 | L22: =COUNTIF('Alle rondjes'!$A$2:$A$909,A22) -> 3
A23: 22 | B23: Emiel | C23: Delecluse | D23: 3 | E23: 22 | L23: =COUNTIF('Alle rondjes'!$A$2:$A$909,A23) -> 14
A24: 23 | B24: Ward | C24: De Leeuw | D24: 1 | E24: 23 | L24: =COUNTIF('Alle rondjes'!$A$2:$A$909,A24) -> 17
A25: 24 | B25: Marie | C25: Schrooten | D25: 6 | E25: 24 | L25: =COUNTIF('Alle rondjes'!$A$2:$A$909,A25) -> 6
A26: 25 | B26: Valentin | C26: Bodnar | D26: 6 | E26: 25 | L26: =COUNTIF('Alle rondjes'!$A$2:$A$909,A26) -> 12
A27: 26 | B27: Eloi | C27: Couvreur | D27: 6 | E27: 26 | L27: =COUNTIF('Alle rondjes'!$A$2:$A$909,A27) -> 22
A28: 27 | B28: Brecht | C28: Vandenbussche | D28: 11 | E28: 27 | L28: =COUNTIF('Alle rondjes'!$A$2:$A$909,A28) -> 3
A29: 28 | B29: Lukas | C29: Valkeniers | D29: 5 | E29: 28 | L29: =COUNTIF('Alle rondjes'!$A$2:$A$909,A29) -> 4
A30: 29 | B30: JB | D30: 2 | E30: 29 | L30: =COUNTIF('Alle rondjes'!$A$2:$A$909,A30) -> 22
A31: 30 | B31: Kasper | C31: Kiekens | D31: 3 | E31: 30 | L31: =COUNTIF('Alle rondjes'!$A$2:$A$909,A31) -> 7
A32: 31 | B32: Chloé | C32: Timperman | D32: 3 | E32: 31 | L32: =COUNTIF('Alle rondjes'!$A$2:$A$909,A32) -> 3
A33: 32 | B33: Floris | C33: Vangrieken | D33: 11 | E33: 32 | L33: =COUNTIF('Alle rondjes'!$A$2:$A$909,A33) -> 1
A34: 33 | B34: Frederik | C34: Dumortier | D34: 11 | E34: 33 | L34: =COUNTIF('Alle rondjes'!$A$2:$A$909,A34) -> 9
A35: 34 | B35: Fran | C35: Roesbeke | D35: 8 | E35: 34 | L35: =COUNTIF('Alle rondjes'!$A$2:$A$909,A35) -> 3
A36: 35 | B36: Kobe | C36: Roesbeke | D36: 6 | E36: 35 | L36: =COUNTIF('Alle rondjes'!$A$2:$A$909,A36) -> 2
A37: 36 | B37: Serafien | C37: Snoy | D37: 4 | E37: 36 | L37: =COUNTIF('Alle rondjes'!$A$2:$A$909,A37) -> 5
A38: 37 | B38: Victor | C38: Itterbeek | D38: 5 | E38: 37 | L38: =COUNTIF('Alle rondjes'!$A$2:$A$909,A38) -> 7
A39: 38 | B39: Juliette | C39: Laoureux | D39: 11 | E39: 38 | L39: =COUNTIF('Alle rondjes'!$A$2:$A$909,A39) -> 2
A40: 39 | B40: Cyriac | C40: De Herdt | D40: 7 | E40: 39 | L40: =COUNTIF('Alle rondjes'!$A$2:$A$909,A40) -> 13
A41: 40 | B41: Viktor | C41: Valkeniers | D41: 7 | E41: 40 | L41: =COUNTIF('Alle rondjes'!$A$2:$A$909,A41) -> 8
A42: 41 | B42: Jorne | C42: Rombouts | D42: 6 | E42: 41 | L42: =COUNTIF('Alle rondjes'!$A$2:$A$909,A42) -> 11
... A109: 108 | B109: Florian | C109: Van Herck | D109: 6 | E109: 108 | L109: =COUNTIF('Alle rondjes'!$A$2:$A$909,A109) -> 8
A110: 109 | B110: Cache | D110: 3 | E110: 109 | L110: =COUNTIF('Alle rondjes'!$A$2:$A$909,A110) -> 1
A111: 110 | B111: Maarten | C111: De Nocker | D111: 3 | E111: 110 | L111: =COUNTIF('Alle rondjes'!$A$2:$A$909,A111) -> 4
A112: 111 | B112: Tuur | C112: Geboers | D112: 3 | E112: 111 | L112: =COUNTIF('Alle rondjes'!$A$2:$A$909,A112) -> 1
...

Sheet README
A1: Hoe statistieken ophalen (je kunt ook altijd de excel van vorig jaar bekijken):
A2: 1) lees .db3 bestand uit met programma zoals SQLite Expert of gelijkaardig
A3: 2) kopieer de 3 sheets en zet ze in deze excel (in de juiste tab)
A4: 3) in 'Alle rondjes', verwijder vanonder alle rijen vanaf waar er enkel nullen en #N/A staat
A5: 4) in 'Alle rondjes op tijd', verwijder vanonder alle rijen vanaf waar er enkel nullen zijn
A6: 5) sorteer in 'Alle rondjes op tijd' de kolom 'LapTime' van A naar Z om snelste rondjes te zien
A7: 6) in '.db3 Sheet3' verwijder vanonder alle rijen vanaf waar er enkel een nul staat en geen naam meer
A8: 7) kopieer hier vervolgens alle namen en GroupIDs en zet ze (op de juiste plaats) in 'Statistieken'
A9: 8) kopieer ook het aantal rondjes van iedereen en paste value in 'Statistieken'
A10: 9) verwijder onderaan bij 'Statistieken' het teveel aan sequentiële nummering
A11: 10) sorteer de data volgens aantal rondjes van hoogst naar laagst, let op dat sequentiële nummering niet mee sorteert
A12: 11) zoek op top 10 in aantal rondjes van vorig jaar en vul aan
... A17: Vul in 'Statistieken' kolom K (# gangbewoners) zelf in; dan rekent kolom L zich uit.
