Workbook

Sheet Statistieken
A1: aantal | B1: runner ID | C1: runners.firstname | D1: runners.name | E1: runners.GroupId | L1: Eén rondje = ongeveer 520 meter
A2: 30 | B2: 3 | C2: Matthias | D2: Swerts | E2: 3
A3: 26 | B3: 4 | C3: Samuel | D3: Dieusaert | E3: 6 | I3: Gangenklassement
A4: 24 | B4: 5 | C4: Briek | D4: Verwilt | E4: 8 | G4: GroupID | H4: Gang | I4: # rondjes | J4: # lopers | K4: # gangbewoners | L4: Rondjes per gangbewoner
A5: 24 | B5: 8 | C5: Ernest | D5: Snoy | E5: 6 | G5: 1 | H5: Zuid -1 | I5: =SUMIF($E$2:$E$246,G5,$A$2:$A$246) -> 63 | J5: =COUNTIF($E$2:$E$246,"=1") -> 10 | K5: 13 | L5: =IF(K5="","",I5/K5) -> 4.8461538
A6: 24 | B6: 13 | C6: Ilya | D6: Nizet | E6: 7 | G6: 2 | H6: Zuid 0 | I6: =SUMIF($E$2:$E$246,G6,$A$2:$A$246) -> 59 | J6: =COUNTIF($E$2:$E$246,"=2") -> 12 | K6: 18 | L6: =IF(K6="","",I6/K6) -> 3.2777778
A7: 22 | B7: 26 | C7: Eloi | D7: Couvreur | E7: 6 | G7: 3 | H7: Zuid 1 | I7: =SUMIF($E$2:$E$246,G7,$A$2:$A$246) -> 100 | J7: =COUNTIF($E$2:$E$246,"=3") -> 20 | K7: 22 | L7: =IF(K7="","",I7/K7) -> 4.5454545
A8: 22 | B8: 29 | C8: JB | E8: 2 | G8: 4 | H8: Zuid 2 | I8: =SUMIF($E$2:$E$246,G8,$A$2:$A$246) -> 51 | J8: =COUNTIF($E$2:$E$246,"=4") -> 14 | K8: 22 | L8: =IF(K8="","",I8/K8) -> 2.3181818
A9: 17 | B9: 23 | C9: Ward | D9: De Leeuw | E9: 1 | G9: 5 | H9: Noord 0 | I9: =SUMIF($E$2:$E$246,G9,$A$2:$A$246) -> 68 | J9: =COUNTIF($E$2:$E$246,"=5") -> 22 | K9: 21 | L9: =IF(K9="","",I9/K9) -> 3.2380952
A10: 14 | B10: 22 | C10: Emiel | D10: Delecluse | E10: 3 | G10: 6 | H10: Noord 1 | I10: =SUMIF($E$2:$E$246,G10,$A$2:$A$246) -> 155 | J10: =COUNTIF($E$2:$E$246,"=6") -> 16 | K10: 22 | L10: =IF(K10="","",I10/K10) -> 7.0454545
A11: 13 | B11: 9 | C11: Mats | D11: De Greef | E11: 7 | G11: 7 | H11: Noord 2 | I11: =SUMIF($E$2:$E$246,G11,$A$2:$A$246) -> 115 | J11: =COUNTIF($E$2:$E$246,"=7") -> 17 | K11: 22 | L11: =IF(K11="","",I11/K11) -> 5.2272727
A12: 13 | B12: 39 | C12: Cyriac | D12: De Herdt | E12: 7 | G12: 8 | H12: Noord 3 | I12: =SUMIF($E$2:$E$246,G12,$A$2:$A$246) -> 70 | J12: =COUNTIF($E$2:$E$246,"=8") -> 14 | K12: 18 | L12: =IF(K12="","",I12/K12) -> 3.8888889
A13: 13 | B13: 107 | C13: Arnaud | D13: Vauterin | E13: 3 | G13: 10 | H13: Dondeynehuis | I13: =SUMIF($E$2:$E$246,G13,$A$2:$A$246) -> 0 | J13: =COUNTIF($E$2:$E$246,"=10") -> 0
A14: 12 | B14: 16 | C14: Daan | D14: Van Waesberghe | E14: 7 | G14: 11 | H14: Extern | I14: =SUMIF($E$2:$E$246,G14,$A$2:$A$246) -> 227 | J14: =COUNTIF($E$2:$E$246,"=11") -> 120
A15: 12 | B15: 25 | C15: Valentin | D15: Bodnar | E15: 6
A16: 12 | B16: 43 | C16: Andreas | D16: Eliat-Eliat | E16: 1 | H16: Gemiddeld # rondjes | I16: =AVERAGE(A2:A246) -> 3.7061224
A17: 12 | B17: 163 | C17: Timo | E17: 11 | H17: Aantal Lopers | I17: =COUNT(B2:B246) -> 245
A18: 11 | B18: 41 | C18: Jorne | D18: Rombouts | E18: 6 | H18: Totaal # rondjes | I18: =SUM(A2:A246) -> 908
A19: 11 | B19: 133 | C19: Tim | D19: Devogel | E19: 6 | H19: Gemiddelde tijd (s) | I19: =24*60*60/I18 -> 95.154185
A20: 11 | B20: 147 | C20: Eppo | D20: Beckx | E20: 2
A21: 10 | B21: 10 | C21: Axl | D21: Quirijnen | E21: 1
A22: 10 | B22: 17 | C22: Michiel | D22: Vangrieken | E22: 1
A23: 10 | B23: 63 | C23: Yarno | D23: De Winter | E23: 11
A24: 10 | B24: 164 | C24: Marius | D24: Vermeylen | E24: 7
A25: 9 | B25: 14 | C25: Kobe | D25: Vangrieken | E25: 4
A26: 9 | B26: 20 | C26: Gerard | E26: 8
A27: 9 | B27: 33 | C27: Frederik | D27: Dumortier | E27: 11
A28: 9 | B28: 173 | C28: Jasper | D28: Swerts | E28: 4
A29: 8 | B29: 40 | C29: Viktor | D29: Valkeniers | E29: 7
A30: 8 | B30: 108 | C30: Florian | D30: Van Herck | E30: 6
A31: 8 | B31: 127 | C31: Jasper | D31: Seps | E31: 6
A32: 8 | B32: 131 | C32: Cyril | D32: Claeys | E32: 6
A33: 7 | B33: 11 | C33: Seppe | D33: Stoffels | E33: 5
A34: 7 | B34: 19 | C34: Stijn | D34: Patroons | E34: 5
A35: 7 | B35: 30 | C35: Kasper | D35: Kiekens | E35: 3
A36: 7 | B36: 37 | C36: Victor | D36: Itterbeek | E36: 5
A37: 7 | B37: 81 | C37: Sander | D37: Van Campenhout | E37: 11
A38: 7 | B38: 86 | C38: Vincent | D38: Van Den Enden | E38: 2
... A173: 1 | B173: 105 | C173: Seppe | D173: Couwerts | E173: 11
A174: 1 | B174: 109 | C174: Cache | E174: 3
A175: 1 | B175: 111 | C175: Tuur | D175: Geboers | E175: 3
A176: 1 | B176: 113 | C176: Ruslan | D176: Rozumnyi | E176: 3
A177: 1 | B177: 115 | C177: Zoet | D177: Beckx | E177: 3
A178: 1 | B178: 116 | C178: Liora | D178: Hautekeete | E178: 11
A179: 1 | B179: 117 | C179: Andreas | D179: Van Den Heuvel | E179: 11
A180: 1 | B180: 118 | C180: Ruben | D180: Bluekens | E180: 11
A181: 1 | B181: 119 | C181: Victor | D181: Vueghs | E181: 11
A182: 1 | B182: 120 | C182: Axl | D182: Geysen | E182: 11
A183: 1 | B183: 121 | C183: Wout | D183: Vandewynckel | E183: 11
A184: 1 | B184: 122 | C184: Arthur | D184: Haezebrouck | E184: 11
A185: 1 | B185: 123 | C185: Emmeline | D185: Thibault | E185: 3
A186: 1 | B186: 124 | C186: Anke | D186: Uyttenhove | E186: 3
... A240: 1 | B240: 237 | C240: Jonathan | D240: Vanden Wijndgaarde | E240: 4
A241: 1 | B241: 238 | C241: Alban | E241: 11
A242: 1 | B242: 241 | C242: Lukas | D242: Bouckaert | E242: 11
A243: 1 | B243: 242 | C243: Maxime | D243: Francqui | E243: 11
A244: 1 | B244: 243 | C244: Seppe | D244: Geets | E244: 11
A245: 1 | B245: 244 | C245: Michiel | D245: Van Der Vreken | E245: 11
A246: 1 | B246: 245 | C246: Wannes | D246: Cuytelaers | E246: 11
A247: =SUM(A2:A246) -> 908

Sheet Alle rondjes
A1: RunnerId | B1: FirstName | C1: Name | D1: LapTime | E1: LapMoment
A2: ='.db3 Sheet2'!B2 -> 1 | B2: =VLOOKUP(A2,'.db3 Sheet3'!$A$2:$C$246,2,FALSE()) -> Luna | C2: =VLOOKUP(A2,'.db3 Sheet3'!$A$2:$C$246,3,FALSE())&"" -> Dehaes | D2: ='.db3 Sheet2'!C2 -> 27618 | E2: ='.db3 Sheet2'!D2 -> 2026-10-20 20:00:28.000
A3: ='.db3 Sheet2'!B3 -> 2 | B3: =VLOOKUP(A3,'.db3 Sheet3'!$A$2:$C$246,2,FALSE()) -> Tracy | C3: =VLOOKUP(A3,'.db3 Sheet3'!$A$2:$C$246,3,FALSE())&"" -> Furo | D3: ='.db3 Sheet2'!C3 -> 88825 | E3: ='.db3 Sheet2'!D3 -> 2026-10-20 20:01:56.000
A4: ='.db3 Sheet2'!B4 -> 3 | B4: =VLOOKUP(A4,'.db3 Sheet3'!$A$2:$C$246,2,FALSE()) -> Matthias | C4: =VLOOKUP(A4,'.db3 Sheet3'!$A$2:$C$246,3,FALSE())&"" -> Swerts | D4: ='.db3 Sheet2'!C4 -> 75502 | E4: ='.db3 Sheet2'!D4 -> 2026-10-20 20:03:12.000
A5: ='.db3 Sheet2'!B5 -> 4 | B5: =VLOOKUP(A5,'.db3 Sheet3'!$A$2:$C$246,2,FALSE()) -> Samuel | C5: =VLOOKUP(A5,'.db3 Sheet3'!$A$2:$C$246,3,FALSE())&"" -> Dieusaert | D5: ='.db3 Sheet2'!C5 -> 74671 | E5: ='.db3 Sheet2'!D5 -> 2026-10-20 20:04:27.000
A6: ='.db3 Sheet2'!B6 -> 5 | B6: =VLOOKUP(A6,'.db3 Sheet3'!$A$2:$C$246,2,FALSE()) -> Briek | C6: =VLOOKUP(A6,'.db3 Sheet3'!$A$2:$C$246,3,FALSE())&"" -> Verwilt | D6: ='.db3 Sheet2'!C6 -> 78923 | E6: ='.db3 Sheet2'!D6 -> 2026-10-20 20:05:46.000
A7: ='.db3 Sheet2'!B7 -> 6 | B7: =VLOOKUP(A7,'.db3 Sheet3'!$A$2:$C$246,2,FALSE()) -> Tim | C7: =VLOOKUP(A7,'.db3 Sheet3'!$A$2:$C$246,3,FALSE())&"" -> Van Mieghem | D7: ='.db3 Sheet2'!C7 -> 76789 | E7: ='.db3 Sheet2'!D7 -> 2026-10-20 20:07:02.000
A8: ='.db3 Sheet2'!B8 -> 7 | B8: =VLOOKUP(A8,'.db3 Sheet3'!$A$2:$C$246,2,FALSE()) -> Ben | C8: =VLOOKUP(A8,'.db3 Sheet3'!$A$2:$C$246,3,FALSE())&"" -> Masure | D8: ='.db3 Sheet2'!C8 -> 87681 | E8: ='.db3 Sheet2'!D8 -> 2026-10-20 20:08:30.000
A9: ='.db3 Sheet2'!B9 -> 8 | B9: =VLOOKUP(A9,'.db3 Sheet3'!$A$2:$C$246,2,FALSE()) -> Ernest | C9: =VLOOKUP(A9,'.db3 Sheet3'!$A$2:$C$246,3,FALSE())&"" -> Snoy | D9: ='.db3 Sheet2'!C9 -> 80269 | E9: ='.db3 Sheet2'!D9 -> 2026-10-20 20:09:50.000
A10: ='.db3 Sheet2'!B10 -> 9 | B10: =VLOOKUP(A10,'.db3 Sheet3'!$A$2:$C$246,2,FALSE()) -> Mats | C10: =VLOOKUP(A10,'.db3 Sheet3'!$A$2:$C$246,3,FALSE())&"" -> De Greef | D10: ='.db3 Sheet2'!C10 -> 74948 | E10: ='.db3 Sheet2'!D10 -> 2026-10-20 20:11:05.000
A11: ='.db3 Sheet2'!B11 -> 10 | B11: =VLOOKUP(A11,'.db3 Sheet3'!$A$2:$C$246,2,FALSE()) -> Axl | C11: =VLOOKUP(A11,'.db3 Sheet3'!$A$2:$C$246,3,FALSE())&"" -> Quirijnen | D11: ='.db3 Sheet2'!C11 -> 91713 | E11: ='.db3 Sheet2'!D11 -> 2026-10-20 20:12:37.000
A12: ='.db3 Sheet2'!B12 -> 11 | B12: =VLOOKUP(A12,'.db3 Sheet3'!$A$2:$C$246,2,FALSE()) -> Seppe | C12: =VLOOKUP(A12,'.db3 Sheet3'!$A$2:$C$246,3,FALSE())&"" -> Stoffels | D12: ='.db3 Sheet2'!C12 -> 95933 | E12: ='.db3 Sheet2'!D12 -> 2026-10-20 20:14:13.000
A13: ='.db3 Sheet2'!B13 -> 4 | B13: =VLOOKUP(A13,'.db3 Sheet3'!$A$2:$C$246,2,FALSE()) -> Samuel | C13: =VLOOKUP(A13,'.db3 Sheet3'!$A$2:$C$246,3,FALSE())&"" -> Dieusaert | D13: ='.db3 Sheet2'!C13 -> 85422 | E13: ='.db3 Sheet2'!D13 -> 2026-10-20 20:15:38.000
... A909: ='.db3 Sheet2'!B909 -> 4 | B909: =VLOOKUP(A909,'.db3 Sheet3'!$A$2:$C$246,2,FALSE()) -> Samuel | C909: =VLOOKUP(A909,'.db3 Sheet3'!$A$2:$C$246,3,FALSE())&"" -> Dieusaert | D909: ='.db3 Sheet2'!C909 -> 111738 | E909: ='.db3 Sheet2'!D909 -> 2026-10-21 20:00:31.000

Sheet Alle rondjes op tijd
A1: FirstName | B1: Name | C1: LapTime
A2: ='Alle rondjes'!B243 -> Cache | B2: ='Alle rondjes'!C243 | C2: ='Alle rondjes'!D243 -> 6769 | E2: verkeerd getimed
A3: ='Alle rondjes'!B2 -> Luna | B3: ='Alle rondjes'!C2 -> Dehaes | C3: ='Alle rondjes'!D2 -> 27618 | E3: verkeerd getimed
A4: ='Alle rondjes'!B832 -> Daan | B4: ='Alle rondjes'!C832 -> Van Waesberghe | C4: ='Alle rondjes'!D832 -> 59265 | E4: verkeerd getimed
A5: ='Alle rondjes'!B5 -> Samuel | B5: ='Alle rondjes'!C5 -> Dieusaert | C5: ='Alle rondjes'!D5 -> 74671
A6: ='Alle rondjes'!B10 -> Mats | B6: ='Alle rondjes'!C10 -> De Greef | C6: ='Alle rondjes'!D10 -> 74948
A7: ='Alle rondjes'!B4 -> Matthias | B7: ='Alle rondjes'!C4 -> Swerts | C7: ='Alle rondjes'!D4 -> 75502
A8: ='Alle rondjes'!B7 -> Tim | B8: ='Alle rondjes'!C7 -> Van Mieghem | C8: ='Alle rondjes'!D7 -> 76789
A9: ='Alle rondjes'!B761 -> Nicolas | B9: ='Alle rondjes'!C761 -> De Buisseret | C9: ='Alle rondjes'!D761 -> 76930
A10: ='Alle rondjes'!B853 -> Samuel | B10: ='Alle rondjes'!C853 -> Dieusaert | C10: ='Alle rondjes'!D853 -> 77918
A11: ='Alle rondjes'!B745 -> Nicolas | B11: ='Alle rondjes'!C745 -> De Buisseret | C11: ='Alle rondjes'!D745 -> 78743
A12: ='Alle rondjes'!B6 -> Briek | B12: ='Alle rondjes'!C6 -> Verwilt | C12: ='Alle rondjes'!D6 -> 78923
A13: ='Alle rondjes'!B152 -> Samuel | B13: ='Alle rondjes'!C152 -> Dieusaert | C13: ='Alle rondjes'!D152 -> 78961
A14: ='Alle rondjes'!B19 -> Ilya | B14: ='Alle rondjes'!C19 -> Nizet | C14: ='Alle rondjes'!D19 -> 79075
A15: ='Alle rondjes'!B499 -> Tuur | B15: ='Alle rondjes'!C499 -> Mouws | C15: ='Alle rondjes'!D499 -> 79278
A16: ='Alle rondjes'!B880 -> Seppe | B16: ='Alle rondjes'!C880 -> Geets | C16: ='Alle rondjes'!D880 -> 79289
A17: ='Alle rondjes'!B874 -> Brent | B17: ='Alle rondjes'!C874 -> Stroobants | C17: ='Alle rondjes'!D874 -> 79369
A18: ='Alle rondjes'!B62 -> Floris | B18: ='Alle rondjes'!C62 -> Vangrieken | C18: ='Alle rondjes'!D62 -> 79550
A19: ='Alle rondjes'!B659 -> Simon | B19: ='Alle rondjes'!C659 -> Thonon | C19: ='Alle rondjes'!D659 -> 79599
A20: ='Alle rondjes'!B758 -> Samuel | B20: ='Alle rondjes'!C758 -> Dieusaert | C20: ='Alle rondjes'!D758 -> 79661
A21: ='Alle rondjes'!B649 -> Yarno | B21: ='Alle rondjes'!C649 -> De Winter | C21: ='Alle rondjes'!D649 -> 79835
A22: ='Alle rondjes'!B803 -> Vincent | B22: ='Alle rondjes'!C803 -> Leurs | C22: ='Alle rondjes'!D803 -> 80193
A23: ='Alle rondjes'!B774 -> Nicolas | B23: ='Alle rondjes'!C774 -> De Buisseret | C23: ='Alle rondjes'!D774 -> 80255
A24: ='Alle rondjes'!B9 -> Ernest | B24: ='Alle rondjes'!C9 -> Snoy | C24: ='Alle rondjes'!D9 -> 80269
A25: ='Alle rondjes'!B61 -> Ilya | B25: ='Alle rondjes'!C61 -> Nizet | C25: ='Alle rondjes'!D61 -> 80331
A26: ='Alle rondjes'!B707 -> Finn | B26: ='Alle rondjes'!C707 -> Kenyon | C26: ='Alle rondjes'!D707 -> 80349
A27: ='Alle rondjes'!B897 -> Samuel | B27: ='Alle rondjes'!C897 -> Dieusaert | C27: ='Alle rondjes'!D897 -> 80418
A28: ='Alle rondjes'!B793 -> Nicolas | B28: ='Alle rondjes'!C793 -> De Buisseret | C28: ='Alle rondjes'!D793 -> 80453
A29: ='Alle rondjes'!B882 -> Michiel | B29: ='Alle rondjes'!C882 -> Van Der Vreken | C29: ='Alle rondjes'!D882 -> 80461
A30: ='Alle rondjes'!B88 -> Ilya | B30: ='Alle rondjes'!C88 -> Nizet | C30: ='Alle rondjes'!D88 -> 80509
A31: ='Alle rondjes'!B822 -> Tuur | B31: ='Alle rondjes'!C822 -> Mouws | C31: ='Alle rondjes'!D822 -> 80949
A32: ='Alle rondjes'!B875 -> Ruben | B32: ='Alle rondjes'!C875 -> Lamberts | C32: ='Alle rondjes'!D875 -> 81088
A33: ='Alle rondjes'!B878 -> Samuel | B33: ='Alle rondjes'!C878 -> Dieusaert | C33: ='Alle rondjes'!D878 -> 81098
A34: ='Alle rondjes'!B33 -> Ilya | B34: ='Alle rondjes'!C33 -> Nizet | C34: ='Alle rondjes'!D33 -> 81158
A35: ='Alle rondjes'!B110 -> Samuel | B35: ='Alle rondjes'!C110 -> Dieusaert | C35: ='Alle rondjes'!D110 -> 81160
A36: ='Alle rondjes'!B63 -> Frederik | B36: ='Alle rondjes'!C63 -> Dumortier | C36: ='Alle rondjes'!D63 -> 81379
A37: ='Alle rondjes'!B117 -> Ilya | B37: ='Alle rondjes'!C117 -> Nizet | C37: ='Alle rondjes'!D117 -> 81502
A38: ='Alle rondjes'!B872 -> Lucas | B38: ='Alle rondjes'!C872 -> Tolle | C38: ='Alle rondjes'!D872 -> 81571
A39: ='Alle rondjes'!B90 -> Samuel | B39: ='Alle rondjes'!C90 -> Dieusaert | C39: ='Alle rondjes'!D90 -> 81604
A40: ='Alle rondjes'!B650 -> Samuel | B40: ='Alle rondjes'!C650 -> Dieusaert | C40: ='Alle rondjes'!D650 -> 81672
A41: ='Alle rondjes'!B64 -> Samuel | B41: ='Alle rondjes'!C64 -> Dieusaert | C41: ='Alle rondjes'!D64 -> 81686
A42: ='Alle rondjes'!B612 -> Remi | B42: ='Alle rondjes'!C612 -> Segaert | C42: ='Alle rondjes'!D612 -> 81696
A43: ='Alle rondjes'!B550 -> Samuel | B43: ='Alle rondjes'!C550 -> Dieusaert | C43: ='Alle rondjes'!D550 -> 81703
A44: ='Alle rondjes'!B28 -> Vincent | B44: ='Alle rondjes'!C28 -> Leurs | C44: ='Alle rondjes'!D28 -> 81739
A45: ='Alle rondjes'!B72 -> Viktor | B45: ='Alle rondjes'!C72 -> Valkeniers | C45: ='Alle rondjes'!D72 -> 81765
A46: ='Alle rondjes'!B502 -> Hendrik | B46: ='Alle rondjes'!C502 -> Wojtowski | C46: ='Alle rondjes'!D502 -> 81771
A47: ='Alle rondjes'!B660 -> Cyril | B47: ='Alle rondjes'!C660 -> Claeys | C47: ='Alle rondjes'!D660 -> 81786
A48: ='Alle rondjes'!B156 -> Ilya | B48: ='Alle rondjes'!C156 -> Nizet | C48: ='Alle rondjes'!D156 -> 81789
A49: ='Alle rondjes'!B773 -> Nils | B49: ='Alle rondjes'!C773 -> Delhougne | C49: ='Alle rondjes'!D773 -> 81794
A50: ='Alle rondjes'!B146 -> Mathias | B50: ='Alle rondjes'!C146 -> De Schaetzen | C50: ='Alle rondjes'!D146 -> 81814
A51: ='Alle rondjes'!B769 -> Teo | B51: ='Alle rondjes'!C769 -> Haeldermans | C51: ='Alle rondjes'!D769 -> 81872
A52: ='Alle rondjes'!B616 -> Samuel | B52: ='Alle rondjes'!C616 -> Dieusaert | C52: ='Alle rondjes'!D616 -> 81896
A53: ='Alle rondjes'!B807 -> Nicolas | B53: ='Alle rondjes'!C807 -> De Buisseret | C53: ='Alle rondjes'!D807 -> 81915
A54: ='Alle rondjes'!B719 -> Brent | B54: ='Alle rondjes'!C719 -> Stroobants | C54: ='Alle rondjes'!D719 -> 81944
A55: ='Alle rondjes'!B886 -> Kobe | B55: ='Alle rondjes'!C886 -> Vangrieken | C55: ='Alle rondjes'!D886 -> 81970
A56: ='Alle rondjes'!B179 -> Ilya | B56: ='Alle rondjes'!C179 -> Nizet | C56: ='Alle rondjes'!D179 -> 81989
A57: ='Alle rondjes'!B723 -> Samuel | B57: ='Alle rondjes'!C723 -> Dieusaert | C57: ='Alle rondjes'!D723 -> 82143
A58: ='Alle rondjes'!B823 -> Sander | B58: ='Alle rondjes'!C823 -> Van Campenhout | C58: ='Alle rondjes'!D823 -> 82143
A59: ='Alle rondjes'!B810 -> Hendrik | B59: ='Alle rondjes'!C810 -> Wojtowski | C59: ='Alle rondjes'!D810 -> 82194
A60: ='Alle rondjes'!B349 -> Eppo | B60: ='Alle rondjes'!C349 -> Beckx | C60: ='Alle rondjes'!D349 -> 82216
A61: ='Alle rondjes'!B131 -> Ilya | B61: ='Alle rondjes'!C131 -> Nizet | C61: ='Alle rondjes'!D131 -> 82268
A62: ='Alle rondjes'!B751 -> Antoine | B62: ='Alle rondjes'!C751 -> Vermeulen | C62: ='Alle rondjes'!D751 -> 82298
A63: ='Alle rondjes'!B792 -> Cyril | B63: ='Alle rondjes'!C792 -> Frans | C63: ='Alle rondjes'!D792 -> 82376
A64: ='Alle rondjes'!B780 -> Eppo | B64: ='Alle rondjes'!C780 -> Beckx | C64: ='Alle rondjes'!D780 -> 82415
A65: ='Alle rondjes'!B556 -> Paul | B65: ='Alle rondjes'!C556 -> Heijmans | C65: ='Alle rondjes'!D556 -> 82469
A66: ='Alle rondjes'!B47 -> Samuel | B66: ='Alle rondjes'!C47 -> Dieusaert | C66: ='Alle rondjes'!D47 -> 82491
A67: ='Alle rondjes'!B708 -> Samuel | B67: ='Alle rondjes'!C708 -> Dieusaert | C67: ='Alle rondjes'!D708 -> 82518
A68: ='Alle rondjes'!B472 -> Ilya | B68: ='Alle rondjes'!C472 -> Nizet | C68: ='Alle rondjes'!D472 -> 82559
A69: ='Alle rondjes'!B513 -> Tuur | B69: ='Alle rondjes'!C513 -> Mouws | C69: ='Alle rondjes'!D513 -> 82569
A70: ='Alle rondjes'!B785 -> Sander | B70: ='Alle rondjes'!C785 -> Van Campenhout | C70: ='Alle rondjes'!D785 -> 82615
A71: ='Alle rondjes'!B752 -> Viktor | B71: ='Alle rondjes'!C752 -> Valkeniers | C71: ='Alle rondjes'!D752 -> 82619
A72: ='Alle rondjes'!B418 -> Viktor | B72: ='Alle rondjes'!C418 -> Valkeniers | C72: ='Alle rondjes'!D418 -> 82641
A73: ='Alle rondjes'!B850 -> Miro | B73: ='Alle rondjes'!C850 -> Droom | C73: ='Alle rondjes'!D850 -> 82687
A74: ='Alle rondjes'!B14 -> Matthias | B74: ='Alle rondjes'!C14 -> Swerts | C74: ='Alle rondjes'!D14 -> 82705
A75: ='Alle rondjes'!B896 -> Elias | B75: ='Alle rondjes'!C896 -> Janssens | C75: ='Alle rondjes'!D896 -> 82736
A76: ='Alle rondjes'!B686 -> Ilya | B76: ='Alle rondjes'!C686 -> Nizet | C76: ='Alle rondjes'!D686 -> 82743
A77: ='Alle rondjes'!B576 -> Remi | B77: ='Alle rondjes'!C576 -> Segaert | C77: ='Alle rondjes'!D576 -> 82793
A78: ='Alle rondjes'!B610 -> Cyril | B78: ='Alle rondjes'!C610 -> Dupon | C78: ='Alle rondjes'!D610 -> 82855
A79: ='Alle rondjes'!B277 -> Samuel | B79: ='Alle rondjes'!C277 -> Dieusaert | C79: ='Alle rondjes'!D277 -> 82877
A80: ='Alle rondjes'!B76 -> Jorne | B80: ='Alle rondjes'!C76 -> Rombouts | C80: ='Alle rondjes'!D76 -> 83014
A81: ='Alle rondjes'!B632 -> Jacob | B81: ='Alle rondjes'!C632 -> Strobbe | C81: ='Alle rondjes'!D632 -> 83017
A82: ='Alle rondjes'!B415 -> Mats | B82: ='Alle rondjes'!C415 -> De Greef | C82: ='Alle rondjes'!D415 -> 83024
A83: ='Alle rondjes'!B134 -> Jonas | B83: ='Alle rondjes'!C134 -> Martens | C83: ='Alle rondjes'!D134 -> 83030
A84: ='Alle rondjes'!B640 -> Samuel | B84: ='Alle rondjes'!C640 -> Dieusaert | C84: ='Alle rondjes'!D640 -> 83068
A85: ='Alle rondjes'!B883 -> Ilya | B85: ='Alle rondjes'!C883 -> Nizet | C85: ='Alle rondjes'!D883 -> 83150
A86: ='Alle rondjes'!B325 -> Samuel | B86: ='Alle rondjes'!C325 -> Dieusaert | C86: ='Alle rondjes'!D325 -> 83386
A87: ='Alle rondjes'!B885 -> Mats | B87: ='Alle rondjes'!C885 -> De Greef | C87: ='Alle rondjes'!D885 -> 83535
A88: ='Alle rondjes'!B113 -> Matthias | B88: ='Alle rondjes'!C113 -> Swerts | C88: ='Alle rondjes'!D113 -> 83581
A89: ='Alle rondjes'!B310 -> Samuel | B89: ='Alle rondjes'!C310 -> Dieusaert | C89: ='Alle rondjes'!D310 -> 83611
A90: ='Alle rondjes'!B141 -> Matthias | B90: ='Alle rondjes'!C141 -> Swerts | C90: ='Alle rondjes'!D141 -> 83689
A91: ='Alle rondjes'!B892 -> Sander | B91: ='Alle rondjes'!C892 -> Van Campenhout | C91: ='Alle rondjes'!D892 -> 83701
A92: ='Alle rondjes'!B20 -> Kobe | B92: ='Alle rondjes'!C20 -> Vangrieken | C92: ='Alle rondjes'!D20 -> 83738
A93: ='Alle rondjes'!B805 -> Viktor | B93: ='Alle rondjes'!C805 -> Valkeniers | C93: ='Alle rondjes'!D805 -> 83811
A94: ='Alle rondjes'!B727 -> Ernest | B94: ='Alle rondjes'!C727 -> Snoy | C94: ='Alle rondjes'!D727 -> 83848
A95: ='Alle rondjes'!B469 -> Hendrik | B95: ='Alle rondjes'!C469 -> Wojtowski | C95: ='Alle rondjes'!D469 -> 83852
A96: ='Alle rondjes'!B425 -> Ilya | B96: ='Alle rondjes'!C425 -> Nizet | C96: ='Alle rondjes'!D425 -> 83938
A97: ='Alle rondjes'!B724 -> Cyril | B97: ='Alle rondjes'!C724 -> Claeys | C97: ='Alle rondjes'!D724 -> 83940
A98: ='Alle rondjes'!B904 -> Eppo | B98: ='Alle rondjes'!C904 -> Beckx | C98: ='Alle rondjes'!D904 -> 83950
A99: ='Alle rondjes'!B732 -> Matthias | B99: ='Alle rondjes'!C732 -> Swerts | C99: ='Alle rondjes'!D732 -> 84047
A100: ='Alle rondjes'!B778 -> Edouard | B100: ='Alle rondjes'!C778 -> De Smet | C100: ='Alle rondjes'!D778 -> 84101
...

Sheet .db3 Sheet1
A1: Id | B1: Name | C1: rowid | D1: -> Ophalen met SQLite programma (zoals SQLite Expert)
A2: 1 | B2: Lerkeveld (Zuid -1) | C2: 1
A3: 2 | B3: Lerkeveld (Zuid 0) | C3: 2
A4: 3 | B4: Lerkeveld (Zuid 1) | C4: 3
A5: 4 | B5: Lerkeveld (Zuid 2) | C5: 4
A6: 5 | B6: Lerkeveld (Noord 0) | C6: 5
A7: 6 | B7: Lerkeveld (Noord 1) | C7: 6
A8: 7 | B8: Lerkeveld (Noord 2) | C8: 7
A9: 8 | B9: Lerkeveld (Noord 3) | C9: 8
A10: 10 | B10: Dondeynehuis | C10: 10
A11: 11 | B11: Extern | C11: 11

Sheet .db3 Sheet2
A1: Id | B1: RunnerId | C1: LapTime | D1: LapMoment | E1: rowid | F1: -> Ophalen met SQLite programma (zoals SQLite Expert)
A2: 1 | B2: 1 | C2: 27618 | D2: 2026-10-20 20:00:28.000 | E2: 1
A3: 2 | B3: 2 | C3: 88825 | D3: 2026-10-20 20:01:56.000 | E3: 2
A4: 3 | B4: 3 | C4: 75502 | D4: 2026-10-20 20:03:12.000 | E4: 3
A5: 4 | B5: 4 | C5: 74671 | D5: 2026-10-20 20:04:27.000 | E5: 4
A6: 5 | B6: 5 | C6: 78923 | D6: 2026-10-20 20:05:46.000 | E6: 5
A7: 6 | B7: 6 | C7: 76789 | D7: 2026-10-20 20:07:02.000 | E7: 6
A8: 7 | B8: 7 | C8: 87681 | D8: 2026-10-20 20:08:30.000 | E8: 7
A9: 8 | B9: 8 | C9: 80269 | D9: 2026-10-20 20:09:50.000 | E9: 8
A10: 9 | B10: 9 | C10: 74948 | D10: 2026-10-20 20:11:05.000 | E10: 9
A11: 10 | B11: 10 | C11: 91713 | D11: 2026-10-20 20:12:37.000 | E11: 10
A12: 11 | B12: 11 | C12: 95933 | D12: 2026-10-20 20:14:13.000 | E12: 11
A13: 12 | B13: 4 | C13: 85422 | D13: 2026-10-20 20:15:38.000 | E13: 12
... A909: 908 | B909: 4 | C909: 111738 | D909: 2026-10-21 20:00:31.000 | E909: 908

Sheet .db3 Sheet3
A1: Id | B1: FirstName | C1: Name | D1: GroupId | E1: rowid | F1: -> Ophalen met SQLite programma (zoals SQLite Expert) | L1: Aantal Rondjes
A2: 1 | B2: Luna | C2: Dehaes | D2: 2 | E2: 1 | L2: =COUNTIF('Alle rondjes'!$A$2:$A$909,A2) -> 4
A3: 2 | B3: Tracy | C3: Furo | D3: 3 | E3: 2 | L3: =COUNTIF('Alle rondjes'!$A$2:$A$909,A3) -> 1
A4: 3 | B4: Matthias | C4: Swerts | D4: 3 | E4: 3 | L4: =COUNTIF('Alle rondjes'!$A$2:$A$909,A4) -> 30
A5: 4 | B5: Samuel | C5: Dieusaert | D5: 6 | E5: 4 | L5: =COUNTIF('Alle rondjes'!$A$2:$A$909,A5) -> 26
A6: 5 | B6: Briek | C6: Verwilt | D6: 8 | E6: 5 | L6: =COUNTIF('Alle rondjes'!$A$2:$A$909,A6) -> 24
A7: 6 | B7: Tim | C7: Van Mieghem | D7: 11 | E7: 6 | L7: =COUNTIF('Alle rondjes'!$A$2:$A$909,A7) -> 2
A8: 7 | B8: Ben | C8: Masure | D8: 11 | E8: 7 | L8: =COUNTIF('Alle rondjes'!$A$2:$A$909,A8) -> 2
A9: 8 | B9: Ernest | C9: Snoy | D9: 6 | E9: 8 | L9: =COUNTIF('Alle rondjes'!$A$2:$A$909,A9) -> 24
A10: 9 | B10: Mats | C10: De Greef | D10: 7 | E10: 9 | L10: =COUNTIF('Alle rondjes'!$A$2:$A$909,A10) -> 13
A11: 10 | B11: Axl | C11: Quirijnen | D11: 1 | E11: 10 | L11: =COUNTIF('Alle rondjes'!$A$2:$A$909,A11) -> 10
A12: 11 | B12: Seppe | C12: Stoffels | D12: 5 | E12: 11 | L12: =COUNTIF('Alle rondjes'!$A$2:$A$909,A12) -> 7
A13: 12 | B13: Ward | C13: Vanbilsen | D13: 11 | E13: 12 | L13: =COUNTIF('Alle rondjes'!$A$2:$A$909,A13) -> 1
... A20: 19 | B20: Stijn | C20: Patroons | D20: 5 | E20: 19 | L20: =COUNTIF('Alle rondjes'!$A$2:$A$909,A20) -> 7
A21: 20 | B21: Gerard | D21: 8 | E21: 20 | L21: =COUNTIF('Alle rondjes'!$A$2:$A$909,A21) -> 9
A22: 21 | B22: Vincent | C22: Leurs | D22: 11 | E22: 21 | L22: =COUNTIF('Alle rondjes'!$A$2:$A$909,A22) -> 3
A23: 22 | B23: Emiel | C23: Delecluse | D23: 3 | E23: 22 | L23: =COUNTIF('Alle rondjes'!$A$2:$A$909,A23) -> 14
A24: 23 | B24: Ward | C24: De Leeuw | D24: 1 | E24: 23 | L24: =COUNTIF('Alle rondjes'!$A$2:$A$909,A24) -> 17
A25: 24 | B25: Marie | C25: Schrooten | D25: 6 | E25: 24 | L25: =COUNTIF('Alle rondjes'!$A$2:$A$909,A25) -> 6
A26: 25 | B26: Valentin | C26: Bodnar | D26: 6 | E26: 25 | L26: =COUNTIF('Alle rondjes'!$A$2:$A$909,A26) -> 12
A27: 26 | B27: Eloi | C27: Couvreur | D27: 6 | E27: 26 | L27: =COUNTIF('Alle rondjes'!$A$2:$A$909,A27) -> 22
A28: 27 | B28: Brecht | C28: Vandenbussche | D28: 11 | E28: 27 | L28: =COUNTIF('Alle rondjes'!$A$2:$A$909,A28) -> 3
A29: 28 | B29: Lukas | C29: Valkeniers | D29: 5 | E29: 28 | L29: =COUNTIF('Alle rondjes'!$A$2:$A$909,A29) -> 4
A30: 29 | B30: JB | D30: 2 | E30: 29 | L30: =COUNTIF('Alle rondjes'!$A$2:$A$909,A30) -> 22
A31: 30 | B31: Kasper | C31: Kiekens | D31: 3 | E31: 30 | L31: =COUNTIF('Alle rondjes'!$A$2:$A$909,A31) -> 7
A32: 31 | B32: Chloé | C32: Timperman | D32: 3 | E32: 31 | L32: =COUNTIF('Alle rondjes'!$A$2:$A$909,A32) -> 3
A33: 32 | B33: Floris | C33: Vangrieken | D33: 11 | E33: 32 | L33: =COUNTIF('Alle rondjes'!$A$2:$A$909,A33) -> 1
A34: 33 | B34: Frederik | C34: Dumortier | D34: 11 | E34: 33 | L34: =COUNTIF('Alle rondjes'!$A$2:$A$909,A34) -> 9
A35: 34 | B35: Fran | C35: Roesbeke | D35: 8 | E35: 34 | L35: =COUNTIF('Alle rondjes'!$A$2:$A$909,A35) -> 3
A36: 35 | B36: Kobe | C36: Roesbeke | D36: 6 | E36: 35 | L36: =COUNTIF('Alle rondjes'!$A$2:$A$909,A36) -> 2
A37: 36 | B37: Serafien | C37: Snoy | D37: 4 | E37: 36 | L37: =COUNTIF('Alle rondjes'!$A$2:$A$909,A37) -> 5
A38: 37 | B38: Victor | C38: Itterbeek | D38: 5 | E38: 37 | L38: =COUNTIF('Alle rondjes'!$A$2:$A$909,A38) -> 7
A39: 38 | B39: Juliette | C39: Laoureux | D39: 11 | E39: 38 | L39: =COUNTIF('Alle rondjes'!$A$2:$A$909,A39) -> 2
A40: 39 | B40: Cyriac | C40: De Herdt | D40: 7 | E40: 39 | L40: =COUNTIF('Alle rondjes'!$A$2:$A$909,A40) -> 13
A41: 40 | B41: Viktor | C41: Valkeniers | D41: 7 | E41: 40 | L41: =COUNTIF('Alle rondjes'!$A$2:$A$909,A41) -> 8
A42: 41 | B42: Jorne | C42: Rombouts | D42: 6 | E42: 41 | L42: =COUNTIF('Alle rondjes'!$A$2:$A$909,A42) -> 11
... A109: 108 | B109: Florian | C109: Van Herck | D109: 6 | E109: 108 | L109: =COUNTIF('Alle rondjes'!$A$2:$A$909,A109) -> 8
A110: 109 | B110: Cache | D110: 3 | E110: 109 | L110: =COUNTIF('Alle rondjes'!$A$2:$A$909,A110) -> 1
A111: 110 | B111: Maarten | C111: De Nocker | D111: 3 | E111: 110 | L111: =COUNTIF('Alle rondjes'!$A$2:$A$909,A111) -> 4
A112: 111 | B112: Tuur | C112: Geboers | D112: 3 | E112: 111 | L112: =COUNTIF('Alle rondjes'!$A$2:$A$909,A112) -> 1
A113: 112 | B113: Daan | C113: Van Camp | D113: 3 | E113: 112 | L113: =COUNTIF('Alle rondjes'!$A$2:$A$909,A113) -> 2
A114: 113 | B114: Ruslan | C114: Rozumnyi | D114: 3 | E114: 113 | L114: =COUNTIF('Alle rondjes'!$A$2:$A$909,A114) -> 1
A115: 114 | B115: Rafael | C115: Fonteyne | D115: 3 | E115: 114 | L115: =COUNTIF('Alle rondjes'!$A$2:$A$909,A115) -> 2
A116: 115 | B116: Zoet | C116: Beckx | D116: 3 | E116: 115 | L116: =COUNTIF('Alle rondjes'!$A$2:$A$909,A116) -> 1
A117: 116 | B117: Liora | C117: Hautekeete | D117: 11 | E117: 116 | L117: =COUNTIF('Alle rondjes'!$A$2:$A$909,A117) -> 1
A118: 117 | B118: Andreas | C118: Van Den Heuvel | D118: 11 | E118: 117 | L118: =COUNTIF('Alle rondjes'!$A$2:$A$909,A118) -> 1
A119: 118 | B119: Ruben | C119: Bluekens | D119: 11 | E119: 118 | L119: =COUNTIF('Alle rondjes'!$A$2:$A$909,A119) -> 1
A120: 119 | B120: Victor | C120: Vueghs | D120: 11 | E120: 119 | L120: =COUNTIF('Alle rondjes'!$A$2:$A$909,A120) -> 1
A121: 120 | B121: Axl | C121: Geysen | D121: 11 | E121: 120 | L121: =COUNTIF('Alle rondjes'!$A$2:$A$909,A121) -> 1
A122: 121 | B122: Wout | C122: Vandewynckel | D122: 11 | E122: 121 | L122: =COUNTIF('Alle rondjes'!$A$2:$A$909,A122) -> 1
... A163: 162 | B163: Benjamin | C163: Aubard | D163: 7 | E163: 162 | L163: =COUNTIF('Alle rondjes'!$A$2:$A$909,A163) -> 2
A164: 163 | B164: Timo | D164: 11 | E164: 163 | L164: =COUNTIF('Alle rondjes'!$A$2:$A$909,A164) -> 12
A165: 164 | B165: Marius | C165: Vermeylen | D165: 7 | E165: 164 | L165: =COUNTIF('Alle rondjes'!$A$2:$A$909,A165) -> 10
A166: 165 | B166: Sander | C166: Piessens | D166: 7 | E166: 165 | L166: =COUNTIF('Alle rondjes'!$A$2:$A$909,A166) -> 2
A167: 166 | B167: Jonas | C167: Dumoulin Piessens | D167: 7 | E167: 166 | L167: =COUNTIF('Alle rondjes'!$A$2:$A$909,A167) -> 6
A168: 167 | B168: Sebastian | C168: Bigge | D168: 7 | E168: 167 | L168: =COUNTIF('Alle rondjes'!$A$2:$A$909,A168) -> 3
A169: 168 | B169: Mathias | C169: Dooms | D169: 7 | E169: 168 | L169: =COUNTIF('Alle rondjes'!$A$2:$A$909,A169) -> 5
A170: 169 | B170: Finn | C170: Kenyon | D170: 7 | E170: 169 | L170: =COUNTIF('Alle rondjes'!$A$2:$A$909,A170) -> 2
A171: 170 | B171: Lucas | C171: Tolle | D171: 7 | E171: 170 | L171: =COUNTIF('Alle rondjes'!$A$2:$A$909,A171) -> 3
A172: 171 | B172: Sari | C172: Macken | D172: 7 | E172: 171 | L172: =COUNTIF('Alle rondjes'!$A$2:$A$909,A172) -> 1
A173: 172 | B173: Senne | C173: Chiang | D173: 4 | E173: 172 | L173: =COUNTIF('Alle rondjes'!$A$2:$A$909,A173) -> 2
A174: 173 | B174: Jasper | C174: Swerts | D174: 4 | E174: 173 | L174: =COUNTIF('Alle rondjes'!$A$2:$A$909,A174) -> 9
A175: 174 | B175: Pratham | C175: Kulkarni | D175: 4 | E175: 174 | L175: =COUNTIF('Alle rondjes'!$A$2:$A$909,A175) -> 1
A176: 175 | B176: Jelena | C176: Guns | D176: 4 | E176: 175 | L176: =COUNTIF('Alle rondjes'!$A$2:$A$909,A176) -> 2
... A238: 237 | B238: Jonathan | C238: Vanden Wijndgaarde | D238: 4 | E238: 237 | L238: =COUNTIF('Alle rondjes'!$A$2:$A$909,A238) -> 1
A239: 238 | B239: Alban | D239: 11 | E239: 238 | L239: =COUNTIF('Alle rondjes'!$A$2:$A$909,A239) -> 1
A240: 239 | B240: Arno | C240: Cools | D240: 11 | E240: 239 | L240: =COUNTIF('Alle rondjes'!$A$2:$A$909,A240) -> 2
A241: 240 | B241: Erard | C241: Roberti | D241: 11 | E241: 240 | L241: =COUNTIF('Alle rondjes'!$A$2:$A$909,A241) -> 2
A242: 241 | B242: Lukas | C242: Bouckaert | D242: 11 | E242: 241 | L242: =COUNTIF('Alle rondjes'!$A$2:$A$909,A242) -> 1
A243: 242 | B243: Maxime | C243: Francqui | D243: 11 | E243: 242 | L243: =COUNTIF('Alle rondjes'!$A$2:$A$909,A243) -> 1
A244: 243 | B244: Seppe | C244: Geets | D244: 11 | E244: 243 | L244: =COUNTIF('Alle rondjes'!$A$2:$A$909,A244) -> 1
A245: 244 | B245: Michiel | C245: Van Der Vreken | D245: 11 | E245: 244 | L245: =COUNTIF('Alle rondjes'!$A$2:$A$909,A245) -> 1
A246: 245 | B246: Wannes | C246: Cuytelaers | D246: 11 | E246: 245 | L246: =COUNTIF('Alle rondjes'!$A$2:$A$909,A246) -> 1
L247: =SUM(L2:L246) -> 908

Sheet README
A1: Hoe statistieken ophalen (je kunt ook altijd de excel van vorig jaar bekijken):
A2: 1) lees .db3 bestand uit met programma zoals SQLite Expert of gelijkaardig
A3: 2) kopieer de 3 sheets en zet ze in deze excel (in de juiste tab)
A4: 3) in 'Alle rondjes', verwijder vanonder alle rijen vanaf waar er enkel nullen en #N/A staat
A5: 4) in 'Alle rondjes op tijd', verwijder vanonder alle rijen vanaf waar er enkel nullen zijn
A6: 5) sorteer in 'Alle rondjes op tijd' de kolom 'LapTime' van A naar Z om snelste rondjes te zien
A7: 6) in '.db3 Sheet3' verwijder vanonder alle rijen vanaf waar er enkel een nul staat en geen naam meer
A8: 7) kopieer hier vervolgens alle namen en GroupIDs en zet ze (op de juiste plaats) in 'Statistieken'
A9: 8) kopieer ook het aantal rondjes van iedereen en paste value in 'Statistieken'
A10: 9) verwijder onderaan bij 'Statistieken' het teveel aan sequentiële nummering
A11: 10) sorteer de data volgens aantal rondjes van hoogst naar laagst, let op dat sequentiële nummering niet mee sorteert
A12: 11) zoek op top 10 in aantal rondjes van vorig jaar en vul aan
... A17: Vul in 'Statistieken' kolom K (# gangbewoners) zelf in; dan rekent kolom L zich uit.
